BEGIN:VCALENDAR
VERSION:2.0
PRODID:-//Penzberger Beaschdn e.V. - ECPv6.14.2//NONSGML v1.0//EN
CALSCALE:GREGORIAN
METHOD:PUBLISH
X-ORIGINAL-URL:https://penzberger-beaschdn.de
X-WR-CALDESC:Veranstaltungen für Penzberger Beaschdn e.V.
REFRESH-INTERVAL;VALUE=DURATION:PT1H
X-Robots-Tag:noindex
X-PUBLISHED-TTL:PT1H
BEGIN:VTIMEZONE
TZID:UTC
BEGIN:STANDARD
TZOFFSETFROM:+0000
TZOFFSETTO:+0000
TZNAME:UTC
DTSTART:20260101T000000
END:STANDARD
END:VTIMEZONE
BEGIN:VEVENT
DTSTART;TZID=UTC:20261206T000000
DTEND;TZID=UTC:20261206T235959
DTSTAMP:20260421T213513
CREATED:20260323T190358Z
LAST-MODIFIED:20260323T190716Z
UID:2684-1796515200-1796601599@penzberger-beaschdn.de
SUMMARY:Wallberg am Tegernsee
DESCRIPTION:weitere Infos folgen
URL:https://penzberger-beaschdn.de/event/walberg/
ATTACH;FMTTYPE=image/jpeg:https://penzberger-beaschdn.de/wp-content/uploads/2025/11/IMG-20251114-WA0066.jpg
END:VEVENT
BEGIN:VEVENT
DTSTART;TZID=UTC:20261212T000000
DTEND;TZID=UTC:20261212T235959
DTSTAMP:20260421T213513
CREATED:20260323T190904Z
LAST-MODIFIED:20260323T190942Z
UID:2687-1797033600-1797119999@penzberger-beaschdn.de
SUMMARY:Murnau Weihnachtsmarkt
DESCRIPTION:Wir besuchen am Samstag den 12.12. wieder den Murnauer Weihnachtsmarkt.  \n\n\n\nWeitere Informationen folgen in Kürze
URL:https://penzberger-beaschdn.de/event/murnau-weihnachtsmarkt/
LOCATION:Weihnachtsmarkt Murnau\, Gabrielle Münter Platz\, Murnau\, Bayern\, 82418\, Germany
ATTACH;FMTTYPE=image/jpeg:https://penzberger-beaschdn.de/wp-content/uploads/2025/11/IMG-20251114-WA0060.jpg
END:VEVENT
BEGIN:VEVENT
DTSTART;TZID=UTC:20261213T000000
DTEND;TZID=UTC:20261213T235959
DTSTAMP:20260421T213513
CREATED:20260315T100852Z
LAST-MODIFIED:20260315T100938Z
UID:2658-1797120000-1797206399@penzberger-beaschdn.de
SUMMARY:Krampuslauf Traunstein
DESCRIPTION:weitere Informationen in Kürze
URL:https://penzberger-beaschdn.de/event/krampuslauf-traunsteim/
ATTACH;FMTTYPE=image/jpeg:https://penzberger-beaschdn.de/wp-content/uploads/2025/11/IMG-20251114-WA0051.jpg
END:VEVENT
BEGIN:VEVENT
DTSTART;TZID=UTC:20261219T000000
DTEND;TZID=UTC:20261219T235959
DTSTAMP:20260421T213513
CREATED:20260323T191158Z
LAST-MODIFIED:20260323T191251Z
UID:2689-1797638400-1797724799@penzberger-beaschdn.de
SUMMARY:Peißenberg Bahnhofsglühn
DESCRIPTION:Wir sind wieder zu Gast in Peißenberg. Weitere Informationen folgen in Kürze
URL:https://penzberger-beaschdn.de/event/peissenberg-bahnhofsgluehn/
LOCATION:Peißenberg Bahnhofsglühn\, Bergwerkstrasse 5A\, Peißenberg\, Bayern\, 82380\, Germany
ATTACH;FMTTYPE=image/jpeg:https://penzberger-beaschdn.de/wp-content/uploads/2025/06/cropped-cropped-IMG-20241224-WA0110.jpg
END:VEVENT
BEGIN:VEVENT
DTSTART;TZID=UTC:20261220T000000
DTEND;TZID=UTC:20261220T235959
DTSTAMP:20260421T213513
CREATED:20260323T191452Z
LAST-MODIFIED:20260323T191453Z
UID:2691-1797724800-1797811199@penzberger-beaschdn.de
SUMMARY:Spitzingsee
DESCRIPTION:Die Penzberger Beaschdn am Spitzingsee. Weitere Infos folgen
URL:https://penzberger-beaschdn.de/event/spitzingsee/
ATTACH;FMTTYPE=image/jpeg:https://penzberger-beaschdn.de/wp-content/uploads/2025/06/IMG-20250619-WA0139.jpg
END:VEVENT
END:VCALENDAR